BEGIN:VCALENDAR
VERSION:2.0
PRODID:-//Norröra - ECPv6.15.20//NONSGML v1.0//EN
CALSCALE:GREGORIAN
METHOD:PUBLISH
X-WR-CALNAME:Norröra
X-ORIGINAL-URL:https://www.norrora.se
X-WR-CALDESC:Händelser för Norröra
REFRESH-INTERVAL;VALUE=DURATION:PT1H
X-Robots-Tag:noindex
X-PUBLISHED-TTL:PT1H
BEGIN:VTIMEZONE
TZID:Europe/Stockholm
BEGIN:DAYLIGHT
TZOFFSETFROM:+0100
TZOFFSETTO:+0200
TZNAME:CEST
DTSTART:20230326T010000
END:DAYLIGHT
BEGIN:STANDARD
TZOFFSETFROM:+0200
TZOFFSETTO:+0100
TZNAME:CET
DTSTART:20231029T010000
END:STANDARD
BEGIN:DAYLIGHT
TZOFFSETFROM:+0100
TZOFFSETTO:+0200
TZNAME:CEST
DTSTART:20240331T010000
END:DAYLIGHT
BEGIN:STANDARD
TZOFFSETFROM:+0200
TZOFFSETTO:+0100
TZNAME:CET
DTSTART:20241027T010000
END:STANDARD
BEGIN:DAYLIGHT
TZOFFSETFROM:+0100
TZOFFSETTO:+0200
TZNAME:CEST
DTSTART:20250330T010000
END:DAYLIGHT
BEGIN:STANDARD
TZOFFSETFROM:+0200
TZOFFSETTO:+0100
TZNAME:CET
DTSTART:20251026T010000
END:STANDARD
END:VTIMEZONE
BEGIN:VEVENT
DTSTART;VALUE=DATE:20240803
DTEND;VALUE=DATE:20240804
DTSTAMP:20260420T135206
CREATED:20240619T151236Z
LAST-MODIFIED:20240708T154354Z
UID:4610-1722643200-1722729599@www.norrora.se
SUMMARY:ev Tättissim\, kl.15
DESCRIPTION:
URL:https://www.norrora.se/event/ev-tattissim/
END:VEVENT
BEGIN:VEVENT
DTSTART;TZID=Europe/Stockholm:20240803T140000
DTEND;TZID=Europe/Stockholm:20240803T150000
DTSTAMP:20260420T135206
CREATED:20240619T151029Z
LAST-MODIFIED:20240619T151421Z
UID:4607-1722693600-1722697200@www.norrora.se
SUMMARY:Sång-gudstjänst för alla\, Thomas Sving\, Blidö
DESCRIPTION:
URL:https://www.norrora.se/event/sang-gudstjanst-med-thomas-sving-blido/
END:VEVENT
END:VCALENDAR